BEGIN:VCALENDAR
VERSION:2.0
CREATED:20260409T222350Z
PRODID:-//Genworth Financial\, Inc./Equisolve Calendar v1.0//EN
METHOD:PUBLISH
BEGIN:VEVENT
UID:00aa266c7aecf006e02cfbea9c882adb
DTSTAMP:20260421T151627Z
DTSTART:20260506T130000Z
DTEND:20260506T140000Z
SUMMARY:Q1 2026 Genworth Earnings Conference Call
DESCRIPTION:Q1 2026 Genworth Earnings Conference Call
Date: May 6\, 2026 9:00 am EDT
Webcast: https://event.webcasts.com/starthere.jsp?ei=1758008&tp_key=a694635de3
END:VEVENT
END:VCALENDAR
